BEGIN:VCALENDAR
VERSION:2.0
PRODID:-//https://fareasternagriculture.com///NONSGML kigkonsult.se iCalcreator 2.10.15//
METHOD:PUBLISH
BEGIN:VEVENT
UID:20260421T133101UTC-8144No0Lzb@https://fareasternagriculture.com/
DTSTAMP:20260421T133101Z
DESCRIPTION:Event name:Poultry Asia 2026\nLocation:Kuala Lumpur\, Malaysia
 \nWebiste:https://www.poultryasiaexpo.com/ https://fareasternagriculture.c
 om/events/event-list/event/1663-poultry-asia-2026
DTSTART:20260922T092146Z
DTEND:20260924T112146Z
LOCATION:Kuala Lumpur\, Malaysia (Kuala Lumpur\, Malaysia)
SUMMARY:Poultry Asia 2026
URL:https://fareasternagriculture.com/events/event-list/event/1663-poultry-
 asia-2026
END:VEVENT
BEGIN:VEVENT
UID:20260421T133101UTC-8146mDLemS@https://fareasternagriculture.com/
DTSTAMP:20260421T133101Z
DESCRIPTION:Event name:AgriLivestock &amp\; Feed Taiwan 2026\nLocation:Taip
 ei\, Taiwan\nWebiste:https://www.taiwanagriweek.com/ https://fareasternagr
 iculture.com/events/event-list/event/1666-agrilivestock-feed-taiwan-2026
DTSTART:20260908T092947Z
DTEND:20260910T112947Z
LOCATION:Taipei\, Taiwan ()
SUMMARY:AgriLivestock & Feed Taiwan 2026
URL:https://fareasternagriculture.com/events/event-list/event/1666-agrilive
 stock-feed-taiwan-2026
END:VEVENT
BEGIN:VEVENT
UID:20260421T133101UTC-8147fc4sUi@https://fareasternagriculture.com/
DTSTAMP:20260421T133101Z
DESCRIPTION:Event name:ILDEX Indonesia 2026\nLocation:Jakarta\, Indonesia\n
 Webiste:https://www.ildex-indonesia.com/ https://fareasternagriculture.com
 /events/event-list/event/1667-ildex-indonesia-2026
DTSTART:20260916T093224Z
DTEND:20260918T113224Z
LOCATION:Jakarta\, Indonesia (Jakarta \,  Indonesia)
SUMMARY:ILDEX Indonesia 2026
URL:https://fareasternagriculture.com/events/event-list/event/1667-ildex-in
 donesia-2026
END:VEVENT
BEGIN:VEVENT
UID:20260421T133101UTC-8147MKGzGp@https://fareasternagriculture.com/
DTSTAMP:20260421T133101Z
DESCRIPTION:Event name:Asia Agri‑Tech\, Livestock &amp\; Aquaculture Taiwan
  2026\nLocation:Tainan\, Taiwan\nWebiste:https://www.agritechtaiwan.com/ h
 ttps://fareasternagriculture.com/events/event-list/event/1668-asia-agri-te
 ch-livestock-aquaculture-taiwan-2026
DTSTART:20260506T093441Z
DTEND:20260508T113441Z
LOCATION:Taipai\, Taiwan ()
SUMMARY:Asia Agri‑Tech\, Livestock & Aquaculture Taiwan 2026
URL:https://fareasternagriculture.com/events/event-list/event/1668-asia-agr
 i-tech-livestock-aquaculture-taiwan-2026
END:VEVENT
END:VCALENDAR
